BEGIN:VCALENDAR
VERSION:2.0
PRODID:-//Bridget&#039;s Battalion - ECPv6.15.1.1//NONSGML v1.0//EN
CALSCALE:GREGORIAN
METHOD:PUBLISH
X-WR-CALNAME:Bridget&#039;s Battalion
X-ORIGINAL-URL:https://bridgetsbattalion.org
X-WR-CALDESC:Events for Bridget&#039;s Battalion
REFRESH-INTERVAL;VALUE=DURATION:PT1H
X-Robots-Tag:noindex
X-PUBLISHED-TTL:PT1H
BEGIN:VTIMEZONE
TZID:America/New_York
BEGIN:DAYLIGHT
TZOFFSETFROM:-0500
TZOFFSETTO:-0400
TZNAME:EDT
DTSTART:20240310T070000
END:DAYLIGHT
BEGIN:STANDARD
TZOFFSETFROM:-0400
TZOFFSETTO:-0500
TZNAME:EST
DTSTART:20241103T060000
END:STANDARD
END:VTIMEZONE
BEGIN:VEVENT
DTSTART;TZID=America/New_York:20240728T150000
DTEND;TZID=America/New_York:20240728T180000
DTSTAMP:20260423T122518
CREATED:20240607T215719Z
LAST-MODIFIED:20240607T215719Z
UID:316-1722178800-1722189600@bridgetsbattalion.org
SUMMARY:Summer Bake Sale
DESCRIPTION:We’ll be outside of Bridget’s house selling homemade treats to raise money for our non-profit. \nSo come hang out with us or just grab a snack and go. \nWe look forward to seeing you! \n🎵Those summer nights!🎶
URL:https://bridgetsbattalion.org/event/summer-bake-sale/
LOCATION:Bridget’s House\, River rd. and Second ave.\, Croyden\, PA\, 19021\, United States
CATEGORIES:Fundraisers
ATTACH;FMTTYPE=image/jpeg:https://bridgetsbattalion.org/wp-content/uploads/2024/06/Bridgets-Battalion-Bake-Sale-e1717797219627.jpg
END:VEVENT
BEGIN:VEVENT
DTSTART;TZID=America/New_York:20240609T130000
DTEND;TZID=America/New_York:20240609T170000
DTSTAMP:20260423T122518
CREATED:20240403T201657Z
LAST-MODIFIED:20240410T144009Z
UID:119-1717938000-1717952400@bridgetsbattalion.org
SUMMARY:Spring Fling!
DESCRIPTION:Get ready for the ultimate spring event – the Spring Fling cornhole tournament! Join us for a fun-filled day of friendly competition and community spirit\, all while supporting a great organization. This nonprofit fundraiser is your chance to make a difference and have a blast – don’t miss out\, register now! \n  \n***Team ticket ($80) includes registration for 2 players*** \n***Don’t forget to register your team after payment*** \n(form will be below your confirmation screen) \n  \nTicket price includes payment processing fees
URL:https://bridgetsbattalion.org/event/spring-fling/
LOCATION:Bristol Moose Lodge\, 2299 Radcliffe st.\, Bristol\, PA\, 19007\, United States
CATEGORIES:Fundraisers
ATTACH;FMTTYPE=image/png:https://bridgetsbattalion.org/wp-content/uploads/2024/04/Spring-Fling-e1712717158176.png
END:VEVENT
END:VCALENDAR